BEGIN:VCALENDAR
VERSION:2.0
PRODID:-//Tukios.com/
BEGIN:VEVENT
UID:6814a2b0-78a2-43d0-aff7-1718885b33fb@www.communityfuneralservice.com
DTSTAMP:20260420T220643Z
DTSTART:20260424T170000Z
DTEND:20260424T180000Z
SUMMARY:Mass
DESCRIPTION:
URL:https://www.communityfuneralservice.com/obituaries/rosaura-guerrero
LOCATION: 1835 Larkvane Rd  Rowland Heights CA 91748
GEO:33.9865723;-117.9097045
END:VEVENT
END:VCALENDAR