BEGIN:VCALENDAR
VERSION:2.0
PRODID:-//Tukios.com/
BEGIN:VEVENT
UID:4745669c-eb54-472d-9805-57205775dbb1@www.communityfuneralservice.com
DTSTAMP:20260420T220223Z
DTSTART:20260424T163000Z
DTEND:20260424T170000Z
SUMMARY:Visitation
DESCRIPTION:
URL:https://www.communityfuneralservice.com/obituaries/rosaura-guerrero
LOCATION:St. Elizabeth Ann Seton Church 1835 Larkvane Rd  Rowland Heights 
	CA 91748
GEO:33.9865723;-117.9097045
END:VEVENT
END:VCALENDAR